BEGIN:VCALENDAR
VERSION:2.0
PRODID:-//Grundschule Hochberg - ECPv6.15.18//NONSGML v1.0//EN
CALSCALE:GREGORIAN
METHOD:PUBLISH
X-WR-CALNAME:Grundschule Hochberg
X-ORIGINAL-URL:https://grundschule-hochberg.de
X-WR-CALDESC:Veranstaltungen für Grundschule Hochberg
REFRESH-INTERVAL;VALUE=DURATION:PT1H
X-Robots-Tag:noindex
X-PUBLISHED-TTL:PT1H
BEGIN:VTIMEZONE
TZID:Europe/Berlin
BEGIN:DAYLIGHT
TZOFFSETFROM:+0100
TZOFFSETTO:+0200
TZNAME:CEST
DTSTART:20250330T010000
END:DAYLIGHT
BEGIN:STANDARD
TZOFFSETFROM:+0200
TZOFFSETTO:+0100
TZNAME:CET
DTSTART:20251026T010000
END:STANDARD
BEGIN:DAYLIGHT
TZOFFSETFROM:+0100
TZOFFSETTO:+0200
TZNAME:CEST
DTSTART:20260329T010000
END:DAYLIGHT
BEGIN:STANDARD
TZOFFSETFROM:+0200
TZOFFSETTO:+0100
TZNAME:CET
DTSTART:20261025T010000
END:STANDARD
BEGIN:DAYLIGHT
TZOFFSETFROM:+0100
TZOFFSETTO:+0200
TZNAME:CEST
DTSTART:20270328T010000
END:DAYLIGHT
BEGIN:STANDARD
TZOFFSETFROM:+0200
TZOFFSETTO:+0100
TZNAME:CET
DTSTART:20271031T010000
END:STANDARD
END:VTIMEZONE
BEGIN:VEVENT
DTSTART;VALUE=DATE:20260223
DTEND;VALUE=DATE:20260228
DTSTAMP:20260419T181712
CREATED:20260115T102315Z
LAST-MODIFIED:20260128T113635Z
UID:3535-1771804800-1772236799@grundschule-hochberg.de
SUMMARY:Projektwoche Zirkus
DESCRIPTION:
URL:https://grundschule-hochberg.de/event/zirkus/
END:VEVENT
BEGIN:VEVENT
DTSTART;TZID=Europe/Berlin:20260227T150000
DTEND;TZID=Europe/Berlin:20260227T170000
DTSTAMP:20260419T181712
CREATED:20260126T111006Z
LAST-MODIFIED:20260126T111006Z
UID:3679-1772204400-1772211600@grundschule-hochberg.de
SUMMARY:Aufführung Zirkus
DESCRIPTION:
URL:https://grundschule-hochberg.de/event/auffuehrung-zirkus/
END:VEVENT
BEGIN:VEVENT
DTSTART;TZID=Europe/Berlin:20260227T180000
DTEND;TZID=Europe/Berlin:20260227T200000
DTSTAMP:20260419T181712
CREATED:20260126T111037Z
LAST-MODIFIED:20260126T111037Z
UID:3683-1772215200-1772222400@grundschule-hochberg.de
SUMMARY:Aufführung Zirkus
DESCRIPTION:
URL:https://grundschule-hochberg.de/event/auffuehrung-zirkus-2/
END:VEVENT
END:VCALENDAR